BEGIN:VCALENDAR
VERSION:2.0
PRODID:-//https://visionaryperformingarts.ca///NONSGML kigkonsult.se iCalcreator 2.10.15//
METHOD:PUBLISH
BEGIN:VEVENT
UID:20260423T113858CDT-1267v7v0PB@https://visionaryperformingarts.ca/
DTSTAMP:20260423T163858Z
DESCRIPTION:3:00PM-4:30PM\, St. Albert Cast 1 • 5:00PM-6:30PM\, Edmonton Ca
 st 1 • 7:00PM-8:30PM\, St. Albert Cast A https://www.visionaryperformingar
 ts.ca/tickets-events/events/event/94-ride-the-cyclone-vcpa-teens-adv-produ
 ction-2026-sat-april-25th
DTSTART:20260425T210000Z
DTEND:20260427T033000Z
LOCATION:Chromozone (Back Door Parking Lot Entrance Only\, 7217 77 Ave NW\,
  Edmonton\, AB T6B 0B5\, Canada)
SUMMARY:Ride the Cyclone\, VCPA Teens Adv. Production 2026 • Sat. April 25t
 h
URL:https://www.visionaryperformingarts.ca/tickets-events/events/event/94-r
 ide-the-cyclone-vcpa-teens-adv-production-2026-sat-april-25th
END:VEVENT
END:VCALENDAR
