BEGIN:VCALENDAR
VERSION:2.0
PRODID:-//https://visionaryperformingarts.ca///NONSGML kigkonsult.se iCalcreator 2.10.15//
METHOD:PUBLISH
BEGIN:VEVENT
UID:20260423T113648CDT-4173OS2dLF@https://visionaryperformingarts.ca/
DTSTAMP:20260423T163648Z
DESCRIPTION:3:00PM-4:30PM\, Edmonton Cast Do • 5:00PM-6:30PM\, Edmonton Cas
 t A • 7:00PM-8:30PM\, St. Albert Cast 1 https://www.visionaryperformingart
 s.ca/tickets-events/event/93-ride-the-cyclone-vcpa-teens-adv-production-20
 26-sun-april-26th
DTSTART:20260426T210000Z
DTEND:20260427T040000Z
LOCATION:Chromozone (Back Door Parking Lot Entrance Only\, 7217 77 Ave NW\,
  Edmonton\, AB T6B 0B5\, Canada)
SUMMARY:Ride the Cyclone\, VCPA Teens Adv. Production 2026 • Sun. April 26t
 h
URL:https://www.visionaryperformingarts.ca/tickets-events/event/93-ride-the
 -cyclone-vcpa-teens-adv-production-2026-sun-april-26th
END:VEVENT
END:VCALENDAR
